BEGIN:VCALENDAR
VERSION:2.0
PRODID:-//Fachgruppe BAUmediation SDM - ECPv6.6.3//NONSGML v1.0//EN
CALSCALE:GREGORIAN
METHOD:PUBLISH
X-WR-CALNAME:Fachgruppe BAUmediation SDM
X-ORIGINAL-URL:https://baumediation-sdm.ch
X-WR-CALDESC:Veranstaltungen für Fachgruppe BAUmediation SDM
REFRESH-INTERVAL;VALUE=DURATION:PT1H
X-Robots-Tag:noindex
X-PUBLISHED-TTL:PT1H
BEGIN:VTIMEZONE
TZID:Europe/Zurich
BEGIN:DAYLIGHT
TZOFFSETFROM:+0100
TZOFFSETTO:+0200
TZNAME:CEST
DTSTART:20260329T010000
END:DAYLIGHT
BEGIN:STANDARD
TZOFFSETFROM:+0200
TZOFFSETTO:+0100
TZNAME:CET
DTSTART:20261025T010000
END:STANDARD
END:VTIMEZONE
BEGIN:VEVENT
DTSTART;TZID=Europe/Zurich:20260617T090000
DTEND;TZID=Europe/Zurich:20260617T160000
DTSTAMP:20260422T102712
CREATED:20251027T204509Z
LAST-MODIFIED:20260414T140926Z
UID:5011-1781686800-1781712000@baumediation-sdm.ch
SUMMARY:Achtung Streit in der Bauausführung – Lösungswege und Tipps zur Selbsthilfe
DESCRIPTION:THEMA\nUMGANG MIT KONFLIKTEN IM BAU\n\nStreit – Was tun?\nIst etwas aus dem Ruder gelaufen? Gehen Erwartungen auseinander\, drehen sich Diskussionen im Kreis und wichtige Entscheidungen bleiben liegen? Wenn Konflikte eskalieren\, Termine wanken und der Kostenrahmen unter Druck gerät\, braucht es schnelle\, wirksame Lösungen. Klar ist: Stillstand kostet – Zeit\, Geld und Nerven. Doch was hilft wirklich? \nDiese Tagung zeigt\, wie es anders geht. Erfahrene Referentinnen und Referenten aus dem Bauumfeld geben anhand realer Praxisbeispiele Einblick\, wie Konflikte auf Baustellen und in Projekten entstehen – und vor allem\, wie sie konstruktiv gelöst werden können. Sie zeigen auf\, was sich bewährt hat\, wo typische Stolpersteine liegen und welche Strategien präventiv wie auch im akuten Streitfall Wirkung zeigen. \nSie erhalten konkrete Handlungsempfehlungen\, praxiserprobte Tipps und inspirierende Beispiele\, wie Unternehmen ihre Mitarbeitenden firmenintern stärken – bevor Konflikte eskalieren und wenn sie bereits entstanden sind. \nIhr Mehrwert:\nSie gehen mit neuen Ideen\, klaren Ansätzen und gestärkter Handlungssicherheit nach Hause. Ob Sie als Bauführer/in\, Bauleiter/in oder Projektleiter/ in tätig sind – aus Architektur\, Ingenieurwesen\, Unternehmung oder Gewerbe: Diese Tagung unterstützt Sie dabei\, auch in schwierigen Situationen handlungsfähig zu bleiben. Mediatorinnen und Mediatoren gewinnen zusätzlich wertvolle Impulse für typische Konfliktsituationen im Bauumfeld. \n  \nFlyer (PDF)\nAnmeldung
URL:https://baumediation-sdm.ch/event/achtung-streit-praxisbeispiele-loesungswege-tipps-zur-selbsthilfe/
LOCATION:Campus Sursee\, Leidenbergstrasse 17\, Oberkirch\, 6208\, Switzerland
CATEGORIES:Öffentlich
END:VEVENT
BEGIN:VEVENT
DTSTART;TZID=Europe/Zurich:20260625T130000
DTEND;TZID=Europe/Zurich:20260625T170000
DTSTAMP:20260422T102712
CREATED:20260409T183509Z
LAST-MODIFIED:20260409T183621Z
UID:5069-1782392400-1782406800@baumediation-sdm.ch
SUMMARY:Supervision in Zürich
DESCRIPTION:
URL:https://baumediation-sdm.ch/event/supervision-in-zuerich-26/
LOCATION:Zürich
CATEGORIES:Intern
ORGANIZER;CN="Fachgruppe Baumediation SDM":MAILTO:sekretariat@baumediation-sdm.ch
END:VEVENT
BEGIN:VEVENT
DTSTART;TZID=Europe/Zurich:20260826T090000
DTEND;TZID=Europe/Zurich:20260826T130000
DTSTAMP:20260422T102712
CREATED:20260409T183219Z
LAST-MODIFIED:20260409T183431Z
UID:5065-1787734800-1787749200@baumediation-sdm.ch
SUMMARY:Supervision in Luzern
DESCRIPTION:
URL:https://baumediation-sdm.ch/event/supervision-in-luzern-26/
LOCATION:Stadt Luzern\, Luzern\, Switzerland
CATEGORIES:Intern
ORGANIZER;CN="Fachgruppe Baumediation SDM":MAILTO:sekretariat@baumediation-sdm.ch
END:VEVENT
BEGIN:VEVENT
DTSTART;VALUE=DATE:20261022
DTEND;VALUE=DATE:20261023
DTSTAMP:20260422T102712
CREATED:20260409T183724Z
LAST-MODIFIED:20260409T183820Z
UID:5073-1792627200-1792713599@baumediation-sdm.ch
SUMMARY:Herbstworkshop und Supervision
DESCRIPTION:Morgen: Supervision in Zürich\nNachmittag: Herbstworkshop
URL:https://baumediation-sdm.ch/event/herbstworkshop-und-supervision-26/
LOCATION:Zürich
CATEGORIES:Intern
ORGANIZER;CN="Fachgruppe Baumediation SDM":MAILTO:sekretariat@baumediation-sdm.ch
END:VEVENT
END:VCALENDAR